BEGIN:VCALENDAR
VERSION:2.0
PRODID:-//ChamberMaster//Event Calendar 2.0//EN
METHOD:PUBLISH
X-PUBLISHED-TTL:P3D
REFRESH-INTERVAL:P3D
CALSCALE:GREGORIAN
BEGIN:VEVENT
DTSTART:20210605T130000Z
DTEND:20210605T140000Z
X-MICROSOFT-CDO-ALLDAYEVENT:FALSE
SUMMARY:Yoga on the Lakefront
DESCRIPTION:Saturday morning yoga with Rooted Vines Yoga hosted at Plum Point Lodge!\n\n\n\nCost: $15 includes choice of one Mimosa provided by Sapalta\n\n\n\nAll levels yoga class on the lawn at Plum Point Lodge\, right on Seneca Lake. Get extra loose with Seneca Lake yoga classes.\n\nMats are available to borrow as well as some blocks and blankets.
X-ALT-DESC;FMTTYPE=text/html:<span style="caret-color: rgb(5\, 5\, 5)\; color: rgb(5\, 5\, 5)\; font-family: system-ui\, -apple-system\, BlinkMacSystemFont\, &quot\;.SFNSText-Regular&quot\;\, sans-serif\; font-size: 15px\; background-color: rgb(255\, 255\, 255)\;">Saturday morning yoga with Rooted Vines Yoga hosted at Plum Point Lodge!</span><br />\n<br style="caret-color: rgb(5\, 5\, 5)\; color: rgb(5\, 5\, 5)\; font-family: system-ui\, -apple-system\, BlinkMacSystemFont\, &quot\;.SFNSText-Regular&quot\;\, sans-serif\; font-size: 15px\;" />\n<span style="caret-color: rgb(5\, 5\, 5)\; color: rgb(5\, 5\, 5)\; font-family: system-ui\, -apple-system\, BlinkMacSystemFont\, &quot\;.SFNSText-Regular&quot\;\, sans-serif\; font-size: 15px\; background-color: rgb(255\, 255\, 255)\;">Cost: $15 includes choice of one Mimosa provided by Sapalta</span><br />\n<br style="caret-color: rgb(5\, 5\, 5)\; color: rgb(5\, 5\, 5)\; font-family: system-ui\, -apple-system\, BlinkMacSystemFont\, &quot\;.SFNSText-Regular&quot\;\, sans-serif\; font-size: 15px\;" />\n<span style="caret-color: rgb(5\, 5\, 5)\; color: rgb(5\, 5\, 5)\; font-family: system-ui\, -apple-system\, BlinkMacSystemFont\, &quot\;.SFNSText-Regular&quot\;\, sans-serif\; font-size: 15px\; background-color: rgb(255\, 255\, 255)\;">All levels yoga class on the lawn at Plum Point Lodge\, right on Seneca Lake. Get extra loose with Seneca Lake yoga classes.</span><br style="caret-color: rgb(5\, 5\, 5)\; color: rgb(5\, 5\, 5)\; font-family: system-ui\, -apple-system\, BlinkMacSystemFont\, &quot\;.SFNSText-Regular&quot\;\, sans-serif\; font-size: 15px\;" />\n<span style="caret-color: rgb(5\, 5\, 5)\; color: rgb(5\, 5\, 5)\; font-family: system-ui\, -apple-system\, BlinkMacSystemFont\, &quot\;.SFNSText-Regular&quot\;\, sans-serif\; font-size: 15px\; background-color: rgb(255\, 255\, 255)\;">Mats are available to borrow as well as some blocks and blankets.</span>
LOCATION:Plum Point Lodge
UID:e.3254.3743
SEQUENCE:3
DTSTAMP:20260419T171233Z
URL:https://business.yatesny.com/events/details/yoga-on-the-lakefront-06-05-2021-3743
END:VEVENT

END:VCALENDAR
