BEGIN:VCALENDAR
VERSION:2.0
PRODID:-//ChamberMaster//Event Calendar 2.0//EN
METHOD:PUBLISH
X-PUBLISHED-TTL:P3D
REFRESH-INTERVAL:P3D
CALSCALE:GREGORIAN
BEGIN:VEVENT
DTSTART:20190914T120000Z
DTEND:20190914T133000Z
X-MICROSOFT-CDO-ALLDAYEVENT:FALSE
SUMMARY:Watch the Birdie! Birding Outing on the Outlet Trail
DESCRIPTION:Come see the birds on the Keuka Outlet Trail with Lynn Donaldson\, Eaton Birding Society Trip Leader. The walk will start at the trail access point on Hopeton Road near Sugar Loaf. \n\n\n\nIt's recommended to bring any bug spray\, sunscreen\, water\, etc. needed\, as well as binoculars if you have them. Some binoculars will be available to loan as well.
X-ALT-DESC;FMTTYPE=text/html:<span style="color: rgb(29\, 33\, 41)\; font-family: Helvetica\, Arial\, sans-serif\; font-size: 14px\; white-space: pre-wrap\;">Come see the birds on the Keuka Outlet Trail with Lynn Donaldson\, Eaton Birding Society Trip Leader. The walk will start at the trail access point on Hopeton Road near Sugar Loaf. </span><br style="color: rgb(29\, 33\, 41)\; font-family: Helvetica\, Arial\, sans-serif\; font-size: 14px\; white-space: pre-wrap\;" />\n<br style="color: rgb(29\, 33\, 41)\; font-family: Helvetica\, Arial\, sans-serif\; font-size: 14px\; white-space: pre-wrap\;" />\n<span style="color: rgb(29\, 33\, 41)\; font-family: Helvetica\, Arial\, sans-serif\; font-size: 14px\; white-space: pre-wrap\;">It&#39\;s recommended to bring any bug spray\, sunscreen\, water\, etc. needed\, as well as binoculars if you have them. Some binoculars will be available to loan as well.</span>
LOCATION:The Outlet Trail Access Point at Hopeton Road near Sugar Loaf
UID:e.3254.1634
SEQUENCE:3
DTSTAMP:20260423T064755Z
URL:https://business.yatesny.com/events/details/watch-the-birdie-birding-outing-on-the-outlet-trail-1634
END:VEVENT

END:VCALENDAR
