BEGIN:VCALENDAR
VERSION:2.0
PRODID:-//ChamberMaster//Event Calendar 2.0//EN
METHOD:PUBLISH
X-PUBLISHED-TTL:P3D
REFRESH-INTERVAL:P3D
CALSCALE:GREGORIAN
BEGIN:VEVENT
DTSTART:20210626T150000Z
DTEND:20210626T170000Z
X-MICROSOFT-CDO-ALLDAYEVENT:FALSE
SUMMARY:Walk\, Run\, Hike\, Bike-a-thon and Community Dog Walk
DESCRIPTION:Please join Girl Scout Troop 60201 in helping to raise money for the animals in need at the Yates County Humane Society! Join us for our first ever large event put on by our Brownie Troop. Enjoy a nice walk\, run\, hike or bike with your pet\, friend and/or family member! Learn more about our beloved Humane Society\, Outlet Trail and Daisy Troop while enjoying a summer day in nature. Meet us at the Cascade Mills Visitor's Center for some special treats and to sign in between 10-11 am\, the event starts promptly at 11 am! We can't wait to see you!
X-ALT-DESC;FMTTYPE=text/html:<span style="color: rgb(74\, 74\, 74)\; font-family: &quot\;Open Sans&quot\;\, sans-serif\; font-size: 15px\; background-color: rgb(255\, 255\, 255)\;">Please join Girl Scout Troop 60201 in helping to raise money for the animals in need at the Yates County Humane Society! Join us for our first ever large event put on by our Brownie Troop. Enjoy a nice walk\, run\, hike or bike with your pet\, friend and/or family member! Learn more about our beloved Humane Society\, Outlet Trail and Daisy Troop while enjoying a summer day in nature. Meet us at the Cascade Mills Visitor&#39\;s Center for some special treats and to sign in between 10-11 am\, the event starts promptly at 11 am!&nbsp\;We can&#39\;t wait to see you!</span>
LOCATION:
UID:e.3254.3683
SEQUENCE:3
DTSTAMP:20260419T173037Z
URL:https://business.yatesny.com/events/details/walk-run-hike-bike-a-thon-and-community-dog-walk-3683
END:VEVENT

END:VCALENDAR
