BEGIN:VCALENDAR
VERSION:2.0
PRODID:-//ChamberMaster//Event Calendar 2.0//EN
METHOD:PUBLISH
X-PUBLISHED-TTL:P3D
REFRESH-INTERVAL:P3D
CALSCALE:GREGORIAN
BEGIN:VEVENT
DTSTART:20210709T140000Z
DTEND:20210709T144500Z
X-MICROSOFT-CDO-ALLDAYEVENT:FALSE
SUMMARY:Toddler Dance Party
DESCRIPTION:Let's move! Join us outdoors at Penn Yan Public Library (214 Main St. in Penn Yan) for music\, dance\, bubbles\, and maybe even a few stories! Please follow all current public health guidelines. This program will be canceled in the event of inclement weather.
X-ALT-DESC;FMTTYPE=text/html:Let&#39\;s move! Join us outdoors at Penn Yan Public Library (214 Main St. in Penn Yan) for music\, dance\, bubbles\, and maybe even a few stories! Please follow all current public health guidelines. This program will be canceled in the event of inclement weather.
LOCATION:Penn Yan Public Library 214 Main Street Penn Yan\, NY 14527
UID:e.3254.3778
SEQUENCE:3
DTSTAMP:20260419T154733Z
URL:https://business.yatesny.com/events/details/toddler-dance-party-07-09-2021-3778
END:VEVENT

END:VCALENDAR
