BEGIN:VCALENDAR
VERSION:2.0
PRODID:-//ChamberMaster//Event Calendar 2.0//EN
METHOD:PUBLISH
X-PUBLISHED-TTL:P3D
REFRESH-INTERVAL:P3D
CALSCALE:GREGORIAN
BEGIN:VEVENT
DTSTART:20210606T140000Z
DTEND:20210606T160000Z
X-MICROSOFT-CDO-ALLDAYEVENT:FALSE
SUMMARY:The Heritage Will Run For Wine 5K
DESCRIPTION:Fulkerson Winery and Confluence Running\, Corning are proud to present The Heritage - Will Run for Wine 5K. This race will be held on the beautiful trails surrounding the winery. You'll run through the vineyard\, forest\, and fields\, and enjoy beautiful views of Seneca Lake. All registered runners will receive a men's or women's fit tank top and wine tumbler. Prizes will be awarded for 1\, 2\, 3 place overall Female and Male. All runners over age 21 can show their bib for a free tasting after the race. Please make tasting reservations ahead of time\, as seating is limited. \n\nThere will be 4 waves of 50 runners per wave. Please select your desired start time when you register. Covid precautions will be in place.
X-ALT-DESC;FMTTYPE=text/html:<span style="color: rgb(85\, 85\, 85)\; font-family: Roboto\, &quot\;Helvetica Neue&quot\;\, Helvetica\, sans-serif\; font-size: 16.8px\; font-variant-ligatures: normal\; orphans: 2\; widows: 2\; text-decoration-thickness: initial\;">Fulkerson Winery and Confluence Running\, Corning are proud to present The Heritage - Will Run for Wine 5K. This race will be held on the beautiful trails surrounding the winery. You&#39\;ll run through the vineyard\, forest\, and fields\, and enjoy beautiful views of Seneca Lake. All registered runners will receive a men&#39\;s or women&#39\;s fit tank top and wine tumbler. Prizes will be awarded for 1\, 2\, 3 place overall Female and Male. All runners over age 21 can show their bib for a free tasting after the race. Please make tasting reservations ahead of time\, as seating is limited.&nbsp\;</span><br style="box-sizing: inherit\; color: rgb(85\, 85\, 85)\; font-family: Roboto\, &quot\;Helvetica Neue&quot\;\, Helvetica\, sans-serif\; font-size: 16.8px\; font-variant-ligatures: normal\; orphans: 2\; widows: 2\; text-decoration-thickness: initial\;" />\n<span style="color: rgb(85\, 85\, 85)\; font-family: Roboto\, &quot\;Helvetica Neue&quot\;\, Helvetica\, sans-serif\; font-size: 16.8px\; font-variant-ligatures: normal\; orphans: 2\; widows: 2\; text-decoration-thickness: initial\;">There will be 4 waves of 50 runners per wave. Please select your desired start time when you register. Covid precautions will be in place.&nbsp\;</span>
LOCATION:Fulkerson Winery 5576 State Route 14\, Dundee\, NY\, 14837
UID:e.3254.3548
SEQUENCE:3
DTSTAMP:20260419T171027Z
URL:https://business.yatesny.com/events/details/the-heritage-will-run-for-wine-5k-3548
END:VEVENT

END:VCALENDAR
