BEGIN:VCALENDAR
VERSION:2.0
PRODID:-//ChamberMaster//Event Calendar 2.0//EN
METHOD:PUBLISH
X-PUBLISHED-TTL:P3D
REFRESH-INTERVAL:P3D
CALSCALE:GREGORIAN
BEGIN:VEVENT
DTSTART;VALUE=DATE:20200124
DTEND;VALUE=DATE:20200125
TRANSP:TRANSPARENT
X-MICROSOFT-CDO-ALLDAYEVENT:TRUE
SUMMARY:T-Rex Tea Party
DESCRIPTION:Family night at the library has never been more prehistoric...or fancier! Bring the whole family down for stories\, a craft\, and\, of course\, tea and biscuits. Costumes are welcome\, and there may even be a tiny-armed guest reader. No registration is required for this free\, family-friendly program.
X-ALT-DESC;FMTTYPE=text/html:<div><span style="color: rgb(0\, 0\, 0)\; font-family: Arial\, sans-serif\; font-size: 12px\; white-space: pre-wrap\;">Family night at the library has never been more prehistoric...o</span><wbr style="color: rgb(0\, 0\, 0)\; font-family: Arial\, sans-serif\; font-size: 12px\; white-space: pre-wrap\;" /><span style="color: rgb(0\, 0\, 0)\; font-family: Arial\, sans-serif\; font-size: 12px\; white-space: pre-wrap\;">r fancier! Bring the whole family down for stories\, a craft\, and\, of course\, tea and biscuits. Costumes are welcome\, and there may even be a tiny-armed guest reader. No registration is required for this free\, family-friendly program.</span></div>\n
LOCATION:Penn Yan Public Library\, 214 Main St
UID:e.3254.2997
SEQUENCE:3
DTSTAMP:20260422T024204Z
URL:https://business.yatesny.com/events/details/t-rex-tea-party-2997
END:VEVENT

END:VCALENDAR
