BEGIN:VCALENDAR
VERSION:2.0
PRODID:-//ChamberMaster//Event Calendar 2.0//EN
METHOD:PUBLISH
X-PUBLISHED-TTL:P3D
REFRESH-INTERVAL:P3D
CALSCALE:GREGORIAN
BEGIN:VEVENT
DTSTART:20200125T220000Z
DTEND:20200126T010000Z
X-MICROSOFT-CDO-ALLDAYEVENT:FALSE
SUMMARY:Snowman Paint and Sip Night
DESCRIPTION:Back by popular demand\, we invite you and your friends to join us at our next Snowman Paint & Sip Night.\n\n\n\nBook a suite with us in wine country this winter with your close girl friends and experience our Snowman Paint & Sip night. Extend the fun by staying with us through the weekend to explore the region's wineries\, breweries\, and festivals. \n\n\n\nONLY $160\n\nIncludes: 1 Double Queen Room\, 2 Paint & Sip seats\, wine tasting\, light appetizers\, and complimentary breakfast in the morning.\n\n\n\nAdditional seats are $30 per person\, maximum 4 guests per room. Subject to availability.\n\n\n\nCall (315) 536-8473 to reserve your seats before this event sells out!
X-ALT-DESC;FMTTYPE=text/html:<span style="color: rgb(29\, 33\, 41)\; font-family: Helvetica\, Arial\, sans-serif\; font-size: 14px\; white-space: pre-wrap\;">Back by popular demand\, we invite you and your friends to join us at our next Snowman Paint &amp\; Sip Night.</span><br style="color: rgb(29\, 33\, 41)\; font-family: Helvetica\, Arial\, sans-serif\; font-size: 14px\; white-space: pre-wrap\;" />\n<br style="color: rgb(29\, 33\, 41)\; font-family: Helvetica\, Arial\, sans-serif\; font-size: 14px\; white-space: pre-wrap\;" />\n<span style="color: rgb(29\, 33\, 41)\; font-family: Helvetica\, Arial\, sans-serif\; font-size: 14px\; white-space: pre-wrap\;">Book a suite with us in wine country this winter with your close girl friends and experience our Snowman Paint &amp\; Sip night. Extend the fun by staying with us through the weekend to explore the region&#39\;s wineries\, breweries\, and festivals. </span><br style="color: rgb(29\, 33\, 41)\; font-family: Helvetica\, Arial\, sans-serif\; font-size: 14px\; white-space: pre-wrap\;" />\n<br style="color: rgb(29\, 33\, 41)\; font-family: Helvetica\, Arial\, sans-serif\; font-size: 14px\; white-space: pre-wrap\;" />\n<span style="color: rgb(29\, 33\, 41)\; font-family: Helvetica\, Arial\, sans-serif\; font-size: 14px\; white-space: pre-wrap\;">ONLY $160</span><br style="color: rgb(29\, 33\, 41)\; font-family: Helvetica\, Arial\, sans-serif\; font-size: 14px\; white-space: pre-wrap\;" />\n<span style="color: rgb(29\, 33\, 41)\; font-family: Helvetica\, Arial\, sans-serif\; font-size: 14px\; white-space: pre-wrap\;">Includes: 1 Double Queen Room\, 2 Paint &amp\; Sip seats\, wine tasting\, light appetizers\, and complimentary breakfast in the morning.</span><br style="color: rgb(29\, 33\, 41)\; font-family: Helvetica\, Arial\, sans-serif\; font-size: 14px\; white-space: pre-wrap\;" />\n<br style="color: rgb(29\, 33\, 41)\; font-family: Helvetica\, Arial\, sans-serif\; font-size: 14px\; white-space: pre-wrap\;" />\n<span style="color: rgb(29\, 33\, 41)\; font-family: Helvetica\, Arial\, sans-serif\; font-size: 14px\; white-space: pre-wrap\;">Additional seats are $30 per person\, maximum 4 guests per room. Subject to availability.</span><br style="color: rgb(29\, 33\, 41)\; font-family: Helvetica\, Arial\, sans-serif\; font-size: 14px\; white-space: pre-wrap\;" />\n<br style="color: rgb(29\, 33\, 41)\; font-family: Helvetica\, Arial\, sans-serif\; font-size: 14px\; white-space: pre-wrap\;" />\n<span style="color: rgb(29\, 33\, 41)\; font-family: Helvetica\, Arial\, sans-serif\; font-size: 14px\; white-space: pre-wrap\;">Call (315) 536-8473 to reserve your seats before this event sells out!</span>
LOCATION:Best Westen Plus on Lake Street in Penn Yan
UID:e.3254.2902
SEQUENCE:3
DTSTAMP:20260419T171049Z
URL:https://business.yatesny.com/events/details/snowman-paint-and-sip-night-2902
END:VEVENT

END:VCALENDAR
