BEGIN:VCALENDAR
VERSION:2.0
PRODID:-//ChamberMaster//Event Calendar 2.0//EN
METHOD:PUBLISH
X-PUBLISHED-TTL:P3D
REFRESH-INTERVAL:P3D
CALSCALE:GREGORIAN
BEGIN:VEVENT
DTSTART:20191005T133000Z
DTEND:20191005T140000Z
X-MICROSOFT-CDO-ALLDAYEVENT:FALSE
SUMMARY:Saturday Storytime
DESCRIPTION:Start your weekend with stories\, bubbles\, and songs! This storytime is appropriate for all ages\, and folks are welcome to stay for Tail Waggin' Tutors at 10am. No registration is required for this free program.
X-ALT-DESC;FMTTYPE=text/html:Start your weekend with stories\, bubbles\, and songs! This storytime is appropriate for all ages\, and folks are welcome to stay for Tail Waggin&rsquo\; Tutors at 10am. No registration is required for this free program.&nbsp\;
LOCATION:Penn Yan Public Library on Main Street
UID:e.3254.1721
SEQUENCE:3
DTSTAMP:20260423T040331Z
URL:https://business.yatesny.com/events/details/saturday-storytime-1721
END:VEVENT

END:VCALENDAR
