BEGIN:VCALENDAR
VERSION:2.0
PRODID:-//ChamberMaster//Event Calendar 2.0//EN
METHOD:PUBLISH
X-PUBLISHED-TTL:P3D
REFRESH-INTERVAL:P3D
CALSCALE:GREGORIAN
BEGIN:VEVENT
DTSTART:20190613T220000Z
DTEND:20190616T010000Z
X-MICROSOFT-CDO-ALLDAYEVENT:FALSE
SUMMARY:PYTCO! Urintown Auditions
DESCRIPTION:Auditions for Urinetown will be held at the First Presbyterian Church of Penn Yan (211 Main St.)\n\n \n\nThese will be open auditions but due to time constraints and the length of the audition process (35-45 minutes most likely) we won't be accepting any walk-ins after 8:30 pm\n\n \n\nThis will be a combined singing\, dancing\, and acting audition so please prepare a short (2-3 minute) solo that you can perform acapella and wear something you can easily move in\, we will be using acting sides from the show so don't worry about a monologue
X-ALT-DESC;FMTTYPE=text/html:<p style="box-sizing: inherit\; margin: 0px 0px 1em\; color: rgb(34\, 34\, 34)\; font-family: Roboto\, sans-serif\; font-size: 16px\;"><span style="font-size:14px\;"><span style="font-family:arial\;"><span style="box-sizing: inherit\;">Auditions for Urinetown will be held at the First Presbyterian Church of Penn Yan (211 Main St.)</span></span></span></p>\n\n<p style="box-sizing: inherit\; margin: 0px 0px 1em\; color: rgb(34\, 34\, 34)\; font-family: Roboto\, sans-serif\; font-size: 16px\;">&nbsp\;</p>\n\n<p style="box-sizing: inherit\; margin: 0px 0px 1em\; color: rgb(34\, 34\, 34)\; font-family: Roboto\, sans-serif\; font-size: 16px\;"><span style="font-size:14px\;"><span style="font-family:arial\;"><span style="box-sizing: inherit\;">These will be open auditions but due to time constraints and the length of the audition process (35-45 minutes most likely) we won&#39\;t be accepting any walk-ins after 8:30 pm</span></span></span></p>\n\n<p style="box-sizing: inherit\; margin: 0px 0px 1em\; color: rgb(34\, 34\, 34)\; font-family: Roboto\, sans-serif\; font-size: 16px\;">&nbsp\;</p>\n\n<p style="box-sizing: inherit\; margin: 0px 0px 1em\; color: rgb(34\, 34\, 34)\; font-family: Roboto\, sans-serif\; font-size: 16px\;"><span style="font-size:14px\;"><span style="font-family:arial\;"><span style="box-sizing: inherit\;">This will be a combined singing\, dancing\, and acting audition so please prepare a short (2-3 minute) solo that you can perform acapella and wear something you can easily move in\, we will be using acting sides from the show so don&#39\;t worry about a monologue</span></span></span></p>\n
LOCATION:Presbyterian Church of Penn Yan (211 Main St.)
UID:e.3254.934
SEQUENCE:3
DTSTAMP:20260426T040221Z
URL:https://business.yatesny.com/events/details/pytco-urintown-auditions-934
END:VEVENT

END:VCALENDAR
