BEGIN:VCALENDAR
VERSION:2.0
PRODID:-//ChamberMaster//Event Calendar 2.0//EN
METHOD:PUBLISH
X-PUBLISHED-TTL:P3D
REFRESH-INTERVAL:P3D
CALSCALE:GREGORIAN
BEGIN:VEVENT
DTSTART;VALUE=DATE:20191019
DTEND;VALUE=DATE:20191020
TRANSP:TRANSPARENT
X-MICROSOFT-CDO-ALLDAYEVENT:TRUE
SUMMARY:Pumpkin and Face Painting at the Windmill
DESCRIPTION:Bring the kiddos out to The Windmill for some fall fun with pumpkin and face painting! While you are here\, enjoy some delicious food and great shopping.
X-ALT-DESC;FMTTYPE=text/html:<span style="color: rgb(35\, 31\, 32)\; font-family: &quot\;Noto Sans&quot\;\, sans-serif\; font-size: 14px\;">Bring the kiddos out to The Windmill for some fall fun with pumpkin and face painting! While you are here\, enjoy some delicious food and great shopping.</span>
LOCATION:The Windmill on Route 14A South of Penn Yan
UID:e.3254.1703
SEQUENCE:3
DTSTAMP:20260423T051602Z
URL:https://business.yatesny.com/events/details/pumpkin-and-face-painting-at-the-windmill-1703
END:VEVENT

END:VCALENDAR
