BEGIN:VCALENDAR
VERSION:2.0
PRODID:-//ChamberMaster//Event Calendar 2.0//EN
METHOD:PUBLISH
X-PUBLISHED-TTL:P3D
REFRESH-INTERVAL:P3D
CALSCALE:GREGORIAN
BEGIN:VEVENT
DTSTART:20210726T230000Z
DTEND:20210727T000000Z
X-MICROSOFT-CDO-ALLDAYEVENT:FALSE
SUMMARY:Podcast Primetime: Resistance\, episode 1
DESCRIPTION:Find the first episode of this podcast from the front lines of the movement for Black Lives on Spotify\, and register to join us for discussion at www.bit.ly/pyplpod. Contact the library for assistance accessing the podcast. We encourage you to listen and reflect even if you can't attend. Presented by Penn Yan Public Library and sponsored by the Finger Lakes Justice Partnership.
X-ALT-DESC;FMTTYPE=text/html:Find the first episode of this podcast from the front lines of the movement for Black Lives on Spotify\, and register to join us for discussion at www.bit.ly/pyplpod. Contact the library for assistance accessing the podcast. We encourage you to listen and reflect even if you can&rsquo\;t attend. Presented by Penn Yan Public Library and sponsored by the Finger Lakes Justice Partnership.
LOCATION:Online
UID:e.3254.3765
SEQUENCE:3
DTSTAMP:20260419T154105Z
URL:https://business.yatesny.com/events/details/podcast-primetime-resistance-episode-1-3765
END:VEVENT

END:VCALENDAR
