BEGIN:VCALENDAR
VERSION:2.0
PRODID:-//ChamberMaster//Event Calendar 2.0//EN
METHOD:PUBLISH
X-PUBLISHED-TTL:P3D
REFRESH-INTERVAL:P3D
CALSCALE:GREGORIAN
BEGIN:VEVENT
DTSTART:20191026T160000Z
DTEND:20191026T200000Z
X-MICROSOFT-CDO-ALLDAYEVENT:FALSE
SUMMARY:Pins 4 Pets
DESCRIPTION:Bowl to raise money for the animals at the Humane Society of Yates County!
X-ALT-DESC;FMTTYPE=text/html:<span style="color: rgb(34\, 34\, 34)\; font-family: Alice\; font-size: 18px\; white-space: pre-wrap\;">Bowl to raise money for the animals at the Humane Society of Yates County!</span>
LOCATION:Brocks Bowl and Pizzaria on Route 14a in Penn Yan
UID:e.3254.1610
SEQUENCE:3
DTSTAMP:20260423T035138Z
URL:https://business.yatesny.com/events/details/pins-4-pets-1610
END:VEVENT

END:VCALENDAR
