BEGIN:VCALENDAR
VERSION:2.0
PRODID:-//ChamberMaster//Event Calendar 2.0//EN
METHOD:PUBLISH
X-PUBLISHED-TTL:P3D
REFRESH-INTERVAL:P3D
CALSCALE:GREGORIAN
BEGIN:VEVENT
DTSTART:20230304T170000Z
DTEND:20230304T210000Z
X-MICROSOFT-CDO-ALLDAYEVENT:FALSE
SUMMARY:Penn Yan Wing Walk - 2023
DESCRIPTION:**EVENT IS SOLD OUT**\n\n\n\nBack by popular demand! The Downtown Business Council of Penn Yan is once again hosting the Penn Yan Wing Walk on March 4\, 2023 from 12 to 4PM.\n\n\n\nGo from stop to stop and get 2 chicken wings at each of the participating eight restaurants. Once you have tried them all\, vote your favorite wing. The winning restaurant will be crowned "Best Wings in Penn Yan" and will be given a trophy to hold onto until the next year.  Each ticket holder will receive a free gift at registration.  \n\n\n\nThere are 5 registration locations for the Walk to get your tickets:\n\nThe 18th Amendment\n\nHoban's Spirits\n\nKeuka Candy Emporium\n\nMilly's Pantry  \n\nSilverbird Woodfired\n\n\n\nWhen purchasing tickets\, please select from the drop down menu for where you would like to register. At your registration location\, you will receive a Wing Walk Guide. Registration will start at 12 PM on the day of the event (no earlier). \n\n\n\nTickets are $25 each for an afternoon of fun.\n\n\n\nThis year's EIGHT participating restaurants include:\n\n\n\nBk8d & Loaded\n\nMustang Pub\n\nParker's Grille & Taphouse\n\nSilverbird Woodfired\n\nTavern Restaurant\n\nThe Keuka Restaurant \n\nThe Liberty Restaurant\n\nTrue Roots Kitchen @ Laurentide Beer Co.\n\n\n\nEvent Crewneck Sweatshirts available for purchase with your tickets.   They will be available for pick-up at your registration location on the day of the event.
X-ALT-DESC;FMTTYPE=text/html:<p class="MsoNormal"><span style="background:yellow\;"><span style="color:black\;"><span style="font-family:verdana\,sans-serif\;"><span style="font-size:13.5pt\;">**EVENT IS SOLD OUT**</span></span></span></span><br />\n<br />\n<span style="background:white\;"><span style="color:black\;"><span style="font-family:verdana\,sans-serif\;"><span style="font-size:13.5pt\;">Back by popular demand!&nbsp\;The Downtown Business Council of Penn Yan is once again hosting&nbsp\;the Penn Yan Wing Walk&nbsp\;on March 4\, 2023&nbsp\;from 12 to 4PM.<br />\n<br />\nGo from stop to stop and get 2 chicken wings at each of the participating eight restaurants. Once you have tried them all\, vote your&nbsp\;favorite wing. The winning restaurant will be crowned &quot\;Best Wings in Penn Yan&quot\;&nbsp\;and will be given a trophy to hold onto until the next year.&nbsp\; Each ticket holder will receive a free gift at registration.&nbsp\;&nbsp\;</span></span></span></span><br />\n<br />\n<span style="background:white\;"><span style="color:black\;"><span style="font-family:verdana\,sans-serif\;"><span style="font-size:13.5pt\;">There are 5&nbsp\;registration&nbsp\;locations for the Walk to get your tickets:<br />\nThe 18th Amendment<br />\nHoban&#39\;s Spirits</span></span></span></span><br style="font-variant-ligatures:normal\;font-variant-caps:normal\;orphans:2\;text-align:start\;widows:2\;-webkit-text-stroke-width:0px\;text-decoration-thickness:initial\;text-decoration-style:initial\;word-spacing:0px\;" />\n<span style="background:white\;"><span style="color:black\;"><span style="font-family:verdana\,sans-serif\;"><span style="font-size:13.5pt\;"><span style="font-variant-ligatures:normal\;font-variant-caps:normal\;orphans:2\;text-align:start\;widows:2\;-webkit-text-stroke-width:0px\;text-decoration-thickness:initial\;text-decoration-style:initial\;word-spacing:0px\;">Keuka Candy Emporium</span></span></span></span></span><br style="font-variant-ligatures:normal\;font-variant-caps:normal\;orphans:2\;text-align:start\;widows:2\;-webkit-text-stroke-width:0px\;text-decoration-thickness:initial\;text-decoration-style:initial\;word-spacing:0px\;" />\n<span style="background:white\;"><span style="color:black\;"><span style="font-family:verdana\,sans-serif\;"><span style="font-size:13.5pt\;"><span style="font-variant-ligatures:normal\;font-variant-caps:normal\;orphans:2\;text-align:start\;widows:2\;-webkit-text-stroke-width:0px\;text-decoration-thickness:initial\;text-decoration-style:initial\;word-spacing:0px\;">Milly&#39\;s Pantry&nbsp\;&nbsp\;<br />\nSilverbird Woodfired<br />\n<br />\nWhen purchasing tickets\, please select from the drop down menu for&nbsp\;where you would like to register. At your registration location\, you will receive a Wing Walk Guide. Registration will start at 12 PM on the day of the event (no earlier).&nbsp\;</span><br />\n<br />\n<span style="background:white\;"><span style="color:black\;"><span style="font-family:verdana\,sans-serif\;"><span style="font-size:13.5pt\;">Tickets are $25 each for an afternoon of fun.</span></span></span></span><br />\n<br />\n<span style="background:white\;"><span style="color:black\;"><span style="font-family:verdana\,sans-serif\;"><span style="font-size:13.5pt\;">This year&rsquo\;s EIGHT participating restaurants include:</span></span></span></span><br />\n<br />\n<span style="background:white\;"><span style="color:black\;"><span style="font-family:verdana\,sans-serif\;"><span style="font-size:13.5pt\;">Bk8d &amp\; Loaded</span></span></span></span><br />\nMustang Pub<br />\nParker&#39\;s Grille &amp\; Taphouse<br />\nSilverbird Woodfired<br />\nTavern Restaurant<br />\nThe Keuka Restaurant&nbsp\;<br />\nThe Liberty Restaurant<br />\nTrue Roots Kitchen @ Laurentide Beer Co.</span></span></span></span><br />\n<br />\n<span style="background:white\;"><span style="color:black\;"><span style="font-family:verdana\,sans-serif\;"><span style="font-size:13.5pt\;">Event Crewneck Sweatshirts available for purchase with your tickets.&nbsp\; &nbsp\;They will be available for pick-up at your registration location on the day of the event.&nbsp\;</span></span></span></span></p>\n
LOCATION:Downtown Penn Yan
UID:e.3254.5635
SEQUENCE:3
DTSTAMP:20260423T133010Z
URL:https://business.yatesny.com/events/details/penn-yan-wing-walk-2023-5635
END:VEVENT

END:VCALENDAR
