BEGIN:VCALENDAR
VERSION:2.0
PRODID:-//ChamberMaster//Event Calendar 2.0//EN
METHOD:PUBLISH
X-PUBLISHED-TTL:P3D
REFRESH-INTERVAL:P3D
CALSCALE:GREGORIAN
BEGIN:VEVENT
DTSTART:20210715T130000Z
DTEND:20210715T160000Z
X-MICROSOFT-CDO-ALLDAYEVENT:FALSE
SUMMARY:Page Turner Adventures: Mash Up Day
DESCRIPTION:A recipe\, a game\, a field trip\, or other fun things that don't fit under our other Page Turner categories. Watch these videos whenever fits your schedule! Page Turner programs are brought to you by Penn Yan Public Library and can be found online at http://tinyurl.com/PYPLSummer. Use the username PYPLSummer and the password summer2021 to access them
X-ALT-DESC;FMTTYPE=text/html:A recipe\, a game\, a field trip\, or other fun things that don&rsquo\;t fit under our other Page Turner categories. Watch these videos whenever fits your schedule! Page Turner programs are brought to you by Penn Yan Public Library and can be found online at http://tinyurl.com/PYPLSummer. Use the username PYPLSummer and the password summer2021 to access them
LOCATION:
UID:e.3254.3791
SEQUENCE:3
DTSTAMP:20260419T154732Z
URL:https://business.yatesny.com/events/details/page-turner-adventures-mash-up-day-07-15-2021-3791
END:VEVENT

END:VCALENDAR
