BEGIN:VCALENDAR
VERSION:2.0
PRODID:-//ChamberMaster//Event Calendar 2.0//EN
METHOD:PUBLISH
X-PUBLISHED-TTL:P3D
REFRESH-INTERVAL:P3D
CALSCALE:GREGORIAN
BEGIN:VEVENT
DTSTART:20210707T130000Z
DTEND:20210707T160000Z
X-MICROSOFT-CDO-ALLDAYEVENT:FALSE
SUMMARY:Page Turner Adventures: Author Day
DESCRIPTION:An exclusive interview with a picture book author or illustrator. Watch these videos whenever fits your schedule! Page Turner programs are brought to you by Penn Yan Public Library and can be found online at http://tinyurl.com/PYPLSummer. Use the username PYPLSummer and the password summer2021 to access them.
X-ALT-DESC;FMTTYPE=text/html:An exclusive interview with a picture book author or illustrator. Watch these videos whenever fits your schedule! Page Turner programs are brought to you by Penn Yan Public Library and can be found online at http://tinyurl.com/PYPLSummer. Use the username PYPLSummer and the password summer2021 to access them.
LOCATION:
UID:e.3254.3781
SEQUENCE:3
DTSTAMP:20260419T154359Z
URL:https://business.yatesny.com/events/details/page-turner-adventures-author-day-3781
END:VEVENT

END:VCALENDAR
