BEGIN:VCALENDAR
VERSION:2.0
PRODID:-//ChamberMaster//Event Calendar 2.0//EN
METHOD:PUBLISH
X-PUBLISHED-TTL:P3D
REFRESH-INTERVAL:P3D
CALSCALE:GREGORIAN
BEGIN:VEVENT
DTSTART:20210717T180000Z
DTEND:20210717T190000Z
X-MICROSOFT-CDO-ALLDAYEVENT:FALSE
SUMMARY:Nan Hoffman Concert
DESCRIPTION:Nan Hoffman returns for a concert on the Penn Yan Public Library lawn with guest Kathy Deloughry! Their unique folk and acoustic set will soothe your soul and get your toes tapping. This free concert is open to one and all\, so join us for an afternoon of fun and melody. Bring a lawn chair and watch the skies   we will cancel in the case of inclement weather.
X-ALT-DESC;FMTTYPE=text/html:Nan Hoffman returns for a concert on the Penn Yan Public Library lawn with guest Kathy Deloughry! Their unique folk and acoustic set will soothe your soul and get your toes tapping. This free concert is open to one and all\, so join us for an afternoon of fun and melody. Bring a lawn chair and watch the skies &ndash\; we will cancel in the case of inclement weather.
LOCATION:Penn Yan Public Library\, 214 Main Street\, Penn Yan\, NY 14527
UID:e.3254.3760
SEQUENCE:3
DTSTAMP:20260419T154259Z
URL:https://business.yatesny.com/events/details/nan-hoffman-concert-3760
END:VEVENT

END:VCALENDAR
