BEGIN:VCALENDAR
VERSION:2.0
PRODID:-//ChamberMaster//Event Calendar 2.0//EN
METHOD:PUBLISH
X-PUBLISHED-TTL:P3D
REFRESH-INTERVAL:P3D
CALSCALE:GREGORIAN
BEGIN:VEVENT
DTSTART:20210628T190000Z
DTEND:20210628T200000Z
X-MICROSOFT-CDO-ALLDAYEVENT:FALSE
SUMMARY:Make Your Own Water Bead Stress Ball
DESCRIPTION:It's been a long year. Relax and make yourself something fun to help squish the stress (of exams and everything else) away! This outdoor event for ages 10 and up will take place at the gazebo at Penn Yan Public Library\, 214 Main St. in Penn Yan\, and will be canceled in the event of inclement weather. Please follow all public health guidelines.
X-ALT-DESC;FMTTYPE=text/html:It&rsquo\;s been a long year. Relax and make yourself something fun to help squish the stress (of exams and everything else) away! This outdoor event for ages 10 and up will take place at the gazebo at Penn Yan Public Library\, 214 Main St. in Penn Yan\, and will be canceled in the event of inclement weather. Please follow all public health guidelines.
LOCATION:Penn Yan Public Library\, 214 Main St.\, Penn Yan
UID:e.3254.3688
SEQUENCE:3
DTSTAMP:20260419T171222Z
URL:https://business.yatesny.com/events/details/make-your-own-water-bead-stress-ball-3688
END:VEVENT

END:VCALENDAR
