BEGIN:VCALENDAR
VERSION:2.0
PRODID:-//ChamberMaster//Event Calendar 2.0//EN
METHOD:PUBLISH
X-PUBLISHED-TTL:P3D
REFRESH-INTERVAL:P3D
CALSCALE:GREGORIAN
BEGIN:VEVENT
DTSTART:20210618T230000Z
DTEND:20210619T010000Z
X-MICROSOFT-CDO-ALLDAYEVENT:FALSE
SUMMARY:Live Music @ Water Street Wine Bar
DESCRIPTION:Great end to the week at Water St Wine Bar! Your favorite tunes on the patio with delish food and wine! Featuring Kate & Dave this Friday.
X-ALT-DESC;FMTTYPE=text/html:<span style="color: rgb(5\, 5\, 5)\; font-family: &quot\;Segoe UI Historic&quot\;\, &quot\;Segoe UI&quot\;\, Helvetica\, Arial\, sans-serif\; font-size: 15px\;">Great end to the week at Water St Wine Bar! Your favorite tunes on the patio with delish food and wine! Featuring Kate &amp\; Dave this Friday.&nbsp\;</span>
LOCATION:Water Street Wine Bar 130 Water Street Penn Yan
UID:e.3254.3720
SEQUENCE:3
DTSTAMP:20260419T171418Z
URL:https://business.yatesny.com/events/details/live-music-water-street-wine-bar-3720
END:VEVENT

END:VCALENDAR
