BEGIN:VCALENDAR
VERSION:2.0
PRODID:-//ChamberMaster//Event Calendar 2.0//EN
METHOD:PUBLISH
X-PUBLISHED-TTL:P3D
REFRESH-INTERVAL:P3D
CALSCALE:GREGORIAN
BEGIN:VEVENT
DTSTART:20210613T160000Z
DTEND:20210613T210000Z
X-MICROSOFT-CDO-ALLDAYEVENT:FALSE
SUMMARY:Live Music @ Vineyard View Winery | Canine & Wine
DESCRIPTION:So excited to be hosting this event to help raise money for our local Yates Humane Society! Dogs are always welcome here at Vineyard View\, but on this day it is extra special! Dogs who need a happy home will be joining as well!\n\nWe will have acoustic live music played by Evan Dillon: Noon to 2 and Shawn Duchscherer: 3-5! As well as our food truck cooking up yummy treats!\n\nBring your frisbees\, tennis balls\, and wag your way through the vines!
X-ALT-DESC;FMTTYPE=text/html:<div class="kvgmc6g5 cxmmr5t8 oygrvhab hcukyx3x c1et5uql" style="overflow-wrap: break-word\; margin: 0px\; font-family: &quot\;Segoe UI Historic&quot\;\, &quot\;Segoe UI&quot\;\, Helvetica\, Arial\, sans-serif\; color: rgb(5\, 5\, 5)\; font-size: 15px\; background-color: rgb(255\, 255\, 255)\; animation-name: none !important\; transition-property: none !important\;">So excited to be hosting this event to help raise money for our local Yates Humane Society! Dogs are always welcome here at Vineyard View\, but on this day it is extra special! Dogs who need a happy home will be joining as well!</div>\n\n<div class="o9v6fnle cxmmr5t8 oygrvhab hcukyx3x c1et5uql" style="overflow-wrap: break-word\; margin: 0.5em 0px 0px\; font-family: &quot\;Segoe UI Historic&quot\;\, &quot\;Segoe UI&quot\;\, Helvetica\, Arial\, sans-serif\; color: rgb(5\, 5\, 5)\; font-size: 15px\; background-color: rgb(255\, 255\, 255)\; animation-name: none !important\; transition-property: none !important\;">We will have acoustic live music played by Evan Dillon: Noon to 2 and Shawn Duchscherer: 3-5! As well as our food truck cooking up yummy treats!</div>\n\n<div class="o9v6fnle cxmmr5t8 oygrvhab hcukyx3x c1et5uql" style="overflow-wrap: break-word\; margin: 0.5em 0px 0px\; font-family: &quot\;Segoe UI Historic&quot\;\, &quot\;Segoe UI&quot\;\, Helvetica\, Arial\, sans-serif\; color: rgb(5\, 5\, 5)\; font-size: 15px\; background-color: rgb(255\, 255\, 255)\; animation-name: none !important\; transition-property: none !important\;">Bring your frisbees\, tennis balls\, and wag your way through the vines!</div>\n
LOCATION:
UID:e.3254.3599
SEQUENCE:3
DTSTAMP:20260419T172030Z
URL:https://business.yatesny.com/events/details/live-music-vineyard-view-winery-canine-wine-3599
END:VEVENT

END:VCALENDAR
