BEGIN:VCALENDAR
VERSION:2.0
PRODID:-//ChamberMaster//Event Calendar 2.0//EN
METHOD:PUBLISH
X-PUBLISHED-TTL:P3D
REFRESH-INTERVAL:P3D
CALSCALE:GREGORIAN
BEGIN:VEVENT
DTSTART:20210710T210000Z
DTEND:20210710T230000Z
X-MICROSOFT-CDO-ALLDAYEVENT:FALSE
SUMMARY:Live Music @ Vineyard View Winery
DESCRIPTION:Enjoy live music at a family-run farm winery in the heart of the Finger Lakes Region\, with delicious wines overlooking Keuka Lake and their 100 year old family farm.   \n\n\n\nSoak up all our winery has to offer while enjoying a tasting\, wine by the glass or wine by the bottle\, as you listen to live music by Reef Airs and get a taste from our food truck!
X-ALT-DESC;FMTTYPE=text/html:<span font-size:="" segoe="" style="color: rgb(5\, 5\, 5)\; font-family: " ui="">Enjoy live music at a family-run farm winery in the heart of the Finger Lakes Region\, with delicious wines overlooking Keuka Lake and their 100 year old family farm.&nbsp\; &nbsp\;</span><br />\n<br />\n<span style="color: rgb(28\, 26\, 26)\; font-family: Georgia\, &quot\;Times New Roman&quot\;\, Times\, serif\; font-size: 14px\; background-color: rgba(104\, 0\, 32\, 0.05)\;">Soak up all our winery has to offer while enjoying a tasting\, wine by the glass or wine by the bottle\, as you listen to live music by&nbsp\;</span><strong style="color: rgb(28\, 26\, 26)\; font-family: Georgia\, &quot\;Times New Roman&quot\;\, Times\, serif\; font-size: 14px\; background-color: rgba(104\, 0\, 32\, 0.05)\;">Reef Airs</strong><span style="color: rgb(28\, 26\, 26)\; font-family: Georgia\, &quot\;Times New Roman&quot\;\, Times\, serif\; font-size: 14px\; background-color: rgba(104\, 0\, 32\, 0.05)\;">&nbsp\;and get a taste from our food truck!</span>
LOCATION:
UID:e.3254.3767
SEQUENCE:3
DTSTAMP:20260419T154051Z
URL:https://business.yatesny.com/events/details/live-music-vineyard-view-winery-3767
END:VEVENT

END:VCALENDAR
