BEGIN:VCALENDAR
VERSION:2.0
PRODID:-//ChamberMaster//Event Calendar 2.0//EN
METHOD:PUBLISH
X-PUBLISHED-TTL:P3D
REFRESH-INTERVAL:P3D
CALSCALE:GREGORIAN
BEGIN:VEVENT
DTSTART:20210604T220000Z
DTEND:20210605T010000Z
X-MICROSOFT-CDO-ALLDAYEVENT:FALSE
SUMMARY:Live Music @ Vineyard View Winery
DESCRIPTION:Enjoy live music at a family-run farm winery in the heart of the Finger Lakes Region\, with delicious wines overlooking Keuka Lake and their 100 year old family farm.
X-ALT-DESC;FMTTYPE=text/html:<span style="color: rgb(5\, 5\, 5)\; font-family: &quot\;Segoe UI Historic&quot\;\, &quot\;Segoe UI&quot\;\, Helvetica\, Arial\, sans-serif\; font-size: 15px\;">Enjoy live music at a family-run farm winery in the heart of the Finger Lakes Region\, with delicious wines overlooking Keuka Lake and their 100 year old family farm.&nbsp\;&nbsp\;</span>
LOCATION:
UID:e.3254.3598
SEQUENCE:3
DTSTAMP:20260419T171048Z
URL:https://business.yatesny.com/events/details/live-music-vineyard-view-winery-3598
END:VEVENT

END:VCALENDAR
