BEGIN:VCALENDAR
VERSION:2.0
PRODID:-//ChamberMaster//Event Calendar 2.0//EN
METHOD:PUBLISH
X-PUBLISHED-TTL:P3D
REFRESH-INTERVAL:P3D
CALSCALE:GREGORIAN
BEGIN:VEVENT
DTSTART:20210614T193000Z
DTEND:20210614T203000Z
X-MICROSOFT-CDO-ALLDAYEVENT:FALSE
SUMMARY:Ice Cream In A Bag
DESCRIPTION:Science and summer fun mix in this easy experiment! This free program is for ages 10 and up and is presented in collaboration with Cornell Cooperative Extension of Yates County. This program will be held outdoors at the gazebo at Penn Yan Public Library (214 Main St.\, Penn Yan) and will be canceled in the event of inclement weather. Supplies are limited and available on a first-come\, first-served basis. Please follow all current public health guidelines.
X-ALT-DESC;FMTTYPE=text/html:Science and summer fun mix in this easy experiment! This free program is for ages 10 and up and is presented in collaboration with Cornell Cooperative Extension of Yates County. This program will be held outdoors at the gazebo at Penn Yan Public Library (214 Main St.\, Penn Yan) and will be canceled in the event of inclement weather. Supplies are limited and available on a first-come\, first-served basis. Please follow all current public health guidelines.
LOCATION:Penn Yan Public Library\, 214 Main St.\, Penn Yan
UID:e.3254.3685
SEQUENCE:3
DTSTAMP:20260419T170858Z
URL:https://business.yatesny.com/events/details/ice-cream-in-a-bag-3685
END:VEVENT

END:VCALENDAR
