BEGIN:VCALENDAR
VERSION:2.0
PRODID:-//ChamberMaster//Event Calendar 2.0//EN
METHOD:PUBLISH
X-PUBLISHED-TTL:P3D
REFRESH-INTERVAL:P3D
CALSCALE:GREGORIAN
BEGIN:VEVENT
DTSTART:20210619T003000Z
DTEND:20210619T020000Z
X-MICROSOFT-CDO-ALLDAYEVENT:FALSE
SUMMARY:Free Movie Night
DESCRIPTION:Free Family & Friends Movie Night \n\n \nFree movie night at the YCC -Bring your own snacks\, blankets\, or lawn chairs for a fun evening outside watching a movie under the stars. We will be showing Scoob (2020).
X-ALT-DESC;FMTTYPE=text/html:<div><span style="color: rgb(5\, 5\, 5)\; font-family: &quot\;Segoe UI Historic&quot\;\, &quot\;Segoe UI&quot\;\, Helvetica\, Arial\, sans-serif\; font-size: 15px\; background-color: rgb(255\, 255\, 255)\;">Free Family &amp\; Friends Movie Night&nbsp\;</span></div>\n\n<div>&nbsp\;</div>\n<span style="color: rgb(5\, 5\, 5)\; font-family: &quot\;Segoe UI Historic&quot\;\, &quot\;Segoe UI&quot\;\, Helvetica\, Arial\, sans-serif\; font-size: 15px\; background-color: rgb(255\, 255\, 255)\;">Free movie night at the YCC -Bring your own snacks\, blankets\, or lawn chairs for a fun evening outside watching a movie under the stars. We will be showing Scoob (2020).</span>
LOCATION:Yates Community Center 467 N Main Street Penn Yan\, NY
UID:e.3254.3719
SEQUENCE:3
DTSTAMP:20260419T171049Z
URL:https://business.yatesny.com/events/details/free-movie-night-3719
END:VEVENT

END:VCALENDAR
