BEGIN:VCALENDAR
VERSION:2.0
PRODID:-//ChamberMaster//Event Calendar 2.0//EN
METHOD:PUBLISH
X-PUBLISHED-TTL:P3D
REFRESH-INTERVAL:P3D
CALSCALE:GREGORIAN
BEGIN:VEVENT
DTSTART:20210629T120000Z
DTEND:20210630T000000Z
X-MICROSOFT-CDO-ALLDAYEVENT:FALSE
SUMMARY:Free Cancer Screening Day
DESCRIPTION:Get screened for free! At-home colon cancer screening tests are available by phone 8 a.m. to 8 p.m. June 29\, for free\, to eligible uninsured men and women. Call Hannah at the Cancer Services Program of the Finger Lakes Region to receive a free\, at-home colon cancer screening kit mailed directly to your door. Colon cancer is the 2nd leading cause of cancer death for men in NYA\, but it doesn't have to be. A colon cancer screening can find a problem before you feel it. Call 315-401-1945 for your free screening. No prep is needed for at-home screenings.
X-ALT-DESC;FMTTYPE=text/html:Get screened for free! At-home colon cancer screening tests are available by phone 8 a.m. to 8 p.m. June 29\, for free\, to eligible uninsured men and women. Call Hannah at the Cancer Services Program of the Finger Lakes Region to receive a free\, at-home colon cancer screening kit mailed directly to your door. Colon cancer is the 2nd leading cause of cancer death for men in NYA\, but it doesn&#39\;t have to be. A colon cancer screening can find a problem before you feel it. Call 315-401-1945 for your free screening. No prep is needed for at-home screenings.
LOCATION:By phone.
UID:e.3254.3658
SEQUENCE:3
DTSTAMP:20260419T170945Z
URL:https://business.yatesny.com/events/details/free-cancer-screening-day-3658
END:VEVENT

END:VCALENDAR
