BEGIN:VCALENDAR
VERSION:2.0
PRODID:-//ChamberMaster//Event Calendar 2.0//EN
METHOD:PUBLISH
X-PUBLISHED-TTL:P3D
REFRESH-INTERVAL:P3D
CALSCALE:GREGORIAN
BEGIN:VEVENT
DTSTART:20210723T220000Z
DTEND:20210724T010000Z
X-MICROSOFT-CDO-ALLDAYEVENT:FALSE
SUMMARY:Finger Lakes Museum's Thunder Moon Paddle
DESCRIPTION:What's better than a summer evening paddle and refreshments by a bonfire? Led by FLM's NYS Outdoor Guides and Educators\, this evening paddle will take guests out onto the waters of Keuka Lake\, through wetlands\, and back up Sugar Creek. Registration can be made at www.FingerLakesMuseum.org/events.
X-ALT-DESC;FMTTYPE=text/html:What&rsquo\;s better than a summer evening paddle and refreshments by a bonfire? Led by FLM&rsquo\;s NYS Outdoor Guides and Educators\, this evening paddle will take guests out onto the waters of Keuka Lake\, through wetlands\, and back up Sugar Creek. Registration can be made at www.FingerLakesMuseum.org/events.
LOCATION:Finger Lakes Museum 3369 Guyanoga Road\, Branchport\, 14418
UID:e.3254.3825
SEQUENCE:3
DTSTAMP:20260419T154013Z
URL:https://business.yatesny.com/events/details/finger-lakes-museum-s-thunder-moon-paddle-3825
END:VEVENT

END:VCALENDAR
