BEGIN:VCALENDAR
VERSION:2.0
PRODID:-//ChamberMaster//Event Calendar 2.0//EN
METHOD:PUBLISH
X-PUBLISHED-TTL:P3D
REFRESH-INTERVAL:P3D
CALSCALE:GREGORIAN
BEGIN:VEVENT
DTSTART:20210610T180000Z
DTEND:20210610T190000Z
X-MICROSOFT-CDO-ALLDAYEVENT:FALSE
SUMMARY:Films of the 1930's
DESCRIPTION:Join Tom Nichols for a discussion and viewing of the film\, It Happened One Night\, with Clark Gable and Claudette Colbert.
X-ALT-DESC;FMTTYPE=text/html:Join Tom Nichols for a discussion and viewing of the film\, It Happened One Night\, with Clark Gable and Claudette Colbert.
LOCATION:Dundee Library Tripp Community Room 32 Water St. Dundee
UID:e.3254.3679
SEQUENCE:3
DTSTAMP:20260419T171233Z
URL:https://business.yatesny.com/events/details/films-of-the-1930-s-3679
END:VEVENT

END:VCALENDAR
