BEGIN:VCALENDAR
VERSION:2.0
PRODID:-//ChamberMaster//Event Calendar 2.0//EN
METHOD:PUBLISH
X-PUBLISHED-TTL:P3D
REFRESH-INTERVAL:P3D
CALSCALE:GREGORIAN
BEGIN:VEVENT
DTSTART:20210618T140000Z
DTEND:20210620T210000Z
X-MICROSOFT-CDO-ALLDAYEVENT:FALSE
SUMMARY:Father's Day Weekend at McGregor Vineyard
DESCRIPTION:Visit and receive a free Father's Day Gift\n\nFRIDAY - SATURDAY - SUNDAY\n\nJune 18th - 20th\nAll Dads who visit this weekend from June 18th through June 20th will receive a free golf club style wine bottle holder! Use this fun rack to display your favorite bottle of McGregor wine.\n\n\n\nDads\, please note\, we may require visitors to tell a good bad Dad joke as proof that they are indeed a father to receive this gift. We hope you have your best and worst puns ready. This Father's Day gift is limited to the first 150 Dads who visit the tasting room this weekend!
X-ALT-DESC;FMTTYPE=text/html:<h1 class="null" style="margin: 0px\; padding: 0px\; color: rgb(68\, 68\, 68)\; font-family: Helvetica\; font-size: 22px\; line-height: 33px\; text-align: center\;"><span style="font-size: 28px\;">Visit and receive a free Father&#39\;s Day Gift</span><br />\nFRIDAY - SATURDAY - SUNDAY<br />\nJune 18th - 20th</h1>\n<span style="font-size: 16px\; caret-color: rgb(117\, 117\, 117)\; color: rgb(117\, 117\, 117)\; font-family: Helvetica\; background-color: rgb(255\, 255\, 255)\;">All Dads who visit this weekend from&nbsp\;</span><strong style="font-size: 16px\; caret-color: rgb(117\, 117\, 117)\; color: rgb(117\, 117\, 117)\; font-family: Helvetica\;">June 18th through June 20th</strong><span style="font-size: 16px\; caret-color: rgb(117\, 117\, 117)\; color: rgb(117\, 117\, 117)\; font-family: Helvetica\; background-color: rgb(255\, 255\, 255)\;">&nbsp\;will receive a free golf club style wine bottle holder! Use this fun rack to display your favorite bottle of McGregor wine.</span><br style="font-size: 16px\; caret-color: rgb(117\, 117\, 117)\; color: rgb(117\, 117\, 117)\; font-family: Helvetica\;" />\n<br style="font-size: 16px\; caret-color: rgb(117\, 117\, 117)\; color: rgb(117\, 117\, 117)\; font-family: Helvetica\;" />\n<strong style="font-size: 16px\; caret-color: rgb(117\, 117\, 117)\; color: rgb(117\, 117\, 117)\; font-family: Helvetica\;">Dads\, please note</strong><span style="font-size: 16px\; caret-color: rgb(117\, 117\, 117)\; color: rgb(117\, 117\, 117)\; font-family: Helvetica\; background-color: rgb(255\, 255\, 255)\;">\, we may require visitors to tell a&nbsp\;</span><strike style="font-size: 16px\; caret-color: rgb(117\, 117\, 117)\; color: rgb(117\, 117\, 117)\; font-family: Helvetica\;">good</strike><span style="font-size: 16px\; caret-color: rgb(117\, 117\, 117)\; color: rgb(117\, 117\, 117)\; font-family: Helvetica\; background-color: rgb(255\, 255\, 255)\;">&nbsp\;bad Dad joke as proof that they are indeed a father to receive this gift. We hope you have your best and worst puns ready.&nbsp\;</span><em style="font-size: 16px\; caret-color: rgb(117\, 117\, 117)\; color: rgb(117\, 117\, 117)\; font-family: Helvetica\;">This Father&#39\;s Day gift is limited to the first 150 Dads who visit the tasting room this weekend!</em>
LOCATION:McGregor Vineyard
UID:e.3254.3704
SEQUENCE:3
DTSTAMP:20260419T171027Z
URL:https://business.yatesny.com/events/details/father-s-day-weekend-at-mcgregor-vineyard-3704
END:VEVENT

END:VCALENDAR
