BEGIN:VCALENDAR
VERSION:2.0
PRODID:-//ChamberMaster//Event Calendar 2.0//EN
METHOD:PUBLISH
X-PUBLISHED-TTL:P3D
REFRESH-INTERVAL:P3D
CALSCALE:GREGORIAN
BEGIN:VEVENT
DTSTART:20210620T140000Z
DTEND:20210620T210000Z
X-MICROSOFT-CDO-ALLDAYEVENT:FALSE
SUMMARY:Father's Day Fun at Keuka Spring
DESCRIPTION:Join us for some Father's Day fun!\n\nIn appreciation for all our Dads do\, we'll be offering free tastings for fathers on Father's Day.\n\nWe're also pulling out the games! Enjoy corn hole\, bocce\, croquet\, ladder ball\, and spike ball overlooking the lake next to our patio and deck.  Bring your Dad\, your family and friends to enjoy the afternoon. Wine by the glass and picnic snacks will be available. Relax\, enjoy the view\, and play a few games on this day with Dad.
X-ALT-DESC;FMTTYPE=text/html:<p style="box-sizing: border-box\; font-size: 0.875rem\; line-height: 1.4\; margin-top: 0px\; margin-bottom: 1.25rem\; font-family: Lato\, sans-serif\;">Join us for some Father&#39\;s Day fun!</p>\n\n<p style="box-sizing: border-box\; font-size: 0.875rem\; line-height: 1.4\; margin-top: 0px\; margin-bottom: 1.25rem\; font-family: Lato\, sans-serif\;">In appreciation for all our Dads do\, we&#39\;ll be offering free tastings for fathers on Father&#39\;s Day.</p>\n\n<p style="box-sizing: border-box\; font-size: 0.875rem\; line-height: 1.4\; margin-top: 0px\; margin-bottom: 1.25rem\; font-family: Lato\, sans-serif\;">We&#39\;re also pulling out the games! Enjoy corn hole\, bocce\, croquet\, ladder ball\, and spike ball overlooking the lake next to our patio and deck.&nbsp\; Bring your Dad\, your family and friends to enjoy the afternoon. Wine by the glass and picnic snacks will be available. Relax\, enjoy the view\, and play a few games on this day with Dad.</p>\n
LOCATION:Keuka Spring Vineyards
UID:e.3254.3718
SEQUENCE:3
DTSTAMP:20260419T170945Z
URL:https://business.yatesny.com/events/details/father-s-day-fun-at-keuka-spring-3718
END:VEVENT

END:VCALENDAR
