BEGIN:VCALENDAR
VERSION:2.0
PRODID:-//ChamberMaster//Event Calendar 2.0//EN
METHOD:PUBLISH
X-PUBLISHED-TTL:P3D
REFRESH-INTERVAL:P3D
CALSCALE:GREGORIAN
BEGIN:VEVENT
DTSTART:20190925T210000Z
DTEND:20190926T000000Z
X-MICROSOFT-CDO-ALLDAYEVENT:FALSE
SUMMARY:Evan and Jecca at The Esperanza
DESCRIPTION:Evan Dillon and the amazing Jecca Cappelutti are going to be taking over Wednesday nights at the Esperanza Mansion throughout September. Stop by to watch this awesome duo play some of your favorite tunes.
X-ALT-DESC;FMTTYPE=text/html:<span style="color: rgb(29\, 33\, 41)\; font-family: Helvetica\, Arial\, sans-serif\; font-size: 14px\; white-space: pre-wrap\;">Evan Dillon and the amazing Jecca Cappelutti are going to be taking over Wednesday nights at the Esperanza Mansion throughout September. Stop by to watch this awesome duo play some of your favorite tunes.</span>
LOCATION:The Esperanza Mansion on Route 54a in Branchport
UID:e.3254.1625
SEQUENCE:3
DTSTAMP:20260423T064516Z
URL:https://business.yatesny.com/events/details/evan-and-jecca-at-the-esperanza-1625
END:VEVENT

END:VCALENDAR
