BEGIN:VCALENDAR
VERSION:2.0
PRODID:-//ChamberMaster//Event Calendar 2.0//EN
METHOD:PUBLISH
X-PUBLISHED-TTL:P3D
REFRESH-INTERVAL:P3D
CALSCALE:GREGORIAN
BEGIN:VEVENT
DTSTART;VALUE=DATE:20190907
DTEND;VALUE=DATE:20190908
TRANSP:TRANSPARENT
X-MICROSOFT-CDO-ALLDAYEVENT:TRUE
SUMMARY:Eastview Veterinary Open House
DESCRIPTION:Come join EVC to help us celebrate 20 years at our current location. We are very excited to open our doors and share what we do on a daily basis with the community we serve. Tours\, demonstrations\, information stations\, and much more will be on hand. Save the date and we hope to see you on September 7th!
X-ALT-DESC;FMTTYPE=text/html:<span style="color: rgb(29\, 33\, 41)\; font-family: Helvetica\, Arial\, sans-serif\; font-size: 14px\; white-space: pre-wrap\;">Come join EVC to help us celebrate 20 years at our current location. We are very excited to open our doors and share what we do on a daily basis with the community we serve. Tours\, demonstrations\, information stations\, and much more will be on hand. Save the date and we hope to see you on September 7th!</span>
LOCATION:Eastview Vet Clinic at 1260 State Route 14a in Penn Yan
UID:e.3254.1571
SEQUENCE:3
DTSTAMP:20260423T064441Z
URL:https://business.yatesny.com/events/details/eastview-veterinary-open-house-1571
END:VEVENT

END:VCALENDAR
