BEGIN:VCALENDAR
VERSION:2.0
PRODID:-//ChamberMaster//Event Calendar 2.0//EN
METHOD:PUBLISH
X-PUBLISHED-TTL:P3D
REFRESH-INTERVAL:P3D
CALSCALE:GREGORIAN
BEGIN:VEVENT
DTSTART:20191027T110000Z
DTEND:20191027T160000Z
X-MICROSOFT-CDO-ALLDAYEVENT:FALSE
SUMMARY:Dresden Fire Monthly Breakfast
DESCRIPTION:Join us for breakfast on the 4th Sunday of every month from 7am-Noon for breakfast. We make everything made to order. We do eggs the way you want them (scrambled\, over easy\, and sunny side up)\, breakfast sausage is local from Morgan's Groceries\, we slice our ham and home-fries in house. And our pancakes are always nice and fluffy!!!! Best of all it's all you can eat!!!!! All for $7.50 for adults and $4.00 for those 12 and Under. All proceeds from our breakfast go towards the purchase and equipment for our newest truck ER-22.
X-ALT-DESC;FMTTYPE=text/html:<span style="color: rgb(29\, 33\, 41)\; font-family: Helvetica\, Arial\, sans-serif\; font-size: 14px\; white-space: pre-wrap\;">Join us for breakfast on the 4th Sunday of every month from 7am-Noon for breakfast. We make everything made to order. We do eggs the way you want them (scrambled\, over easy\, and sunny side up)\, breakfast sausage is local from Morgan&#39\;s Groceries\, we slice our ham and home-fries in house. And our pancakes are always nice and fluffy!!!! Best of all it&#39\;s all you can eat!!!!! All for $7.50 for adults and $4.00 for those 12 and Under. All proceeds from our breakfast go towards the purchase and equipment for our newest truck ER-22.</span>
LOCATION:Dresden Fire Department in Dresden
UID:e.3254.2744
SEQUENCE:3
DTSTAMP:20260423T035316Z
URL:https://business.yatesny.com/events/details/dresden-fire-monthly-breakfast-2744
END:VEVENT

END:VCALENDAR
