BEGIN:VCALENDAR
VERSION:2.0
PRODID:-//ChamberMaster//Event Calendar 2.0//EN
METHOD:PUBLISH
X-PUBLISHED-TTL:P3D
REFRESH-INTERVAL:P3D
CALSCALE:GREGORIAN
BEGIN:VEVENT
DTSTART:20210714T140000Z
DTEND:20210714T150000Z
X-MICROSOFT-CDO-ALLDAYEVENT:FALSE
SUMMARY:Community Garden Storytime
DESCRIPTION:Enjoy the sights\, smells\, and sounds of an outdoor storytime at Penn Yan Community Garden\, at the end of Pleasant Ave. (off of South Ave.) in the village. Bring a blanket or chairs and dress for the weather. Please follow all current public health guidelines. This program will be canceled in the event of inclement weather. Presented by Penn Yan Public Library.
X-ALT-DESC;FMTTYPE=text/html:Enjoy the sights\, smells\, and sounds of an outdoor storytime at Penn Yan Community Garden\, at the end of Pleasant Ave. (off of South Ave.) in the village. Bring a blanket or chairs and dress for the weather. Please follow all current public health guidelines. This program will be canceled in the event of inclement weather. Presented by Penn Yan Public Library.
LOCATION:Penn Yan Community Garden Pleasant Ave. Penn Yan\, NY 14527
UID:e.3254.3790
SEQUENCE:3
DTSTAMP:20260419T154431Z
URL:https://business.yatesny.com/events/details/community-garden-storytime-3790
END:VEVENT

END:VCALENDAR
