BEGIN:VCALENDAR
VERSION:2.0
PRODID:-//ChamberMaster//Event Calendar 2.0//EN
METHOD:PUBLISH
X-PUBLISHED-TTL:P3D
REFRESH-INTERVAL:P3D
CALSCALE:GREGORIAN
BEGIN:VEVENT
DTSTART:20190912T220000Z
DTEND:20190912T230000Z
X-MICROSOFT-CDO-ALLDAYEVENT:FALSE
SUMMARY:Civics 101: The State of the Vote
DESCRIPTION:National Voter Registration Day is on September 24th this year. Before registering or verifying your registration\, join us for a presentation on the importance of the vote and the history of American suffrage\, as well as an overview of the challenges facing this fundamental right\, obligation\, and political tool. Leave empowered to share your excitement to vote with everyone in your life and to help get every eligible citizen registered!
X-ALT-DESC;FMTTYPE=text/html:<span style="color: rgb(29\, 33\, 41)\; font-family: Helvetica\, Arial\, sans-serif\; font-size: 14px\; white-space: pre-wrap\;">National Voter Registration Day is on September 24th this year. Before registering or verifying your registration\, join us for a presentation on the importance of the vote and the history of American suffrage\, as well as an overview of the challenges facing this fundamental right\, obligation\, and political tool. Leave empowered to share your excitement to vote with everyone in your life and to help get every eligible citizen registered!</span>
LOCATION:Penn Yan Public Library on Main Street in Penn Yan
UID:e.3254.1646
SEQUENCE:3
DTSTAMP:20260423T064632Z
URL:https://business.yatesny.com/events/details/civics-101-the-state-of-the-vote-1646
END:VEVENT

END:VCALENDAR
