BEGIN:VCALENDAR
VERSION:2.0
PRODID:-//ChamberMaster//Event Calendar 2.0//EN
METHOD:PUBLISH
X-PUBLISHED-TTL:P3D
REFRESH-INTERVAL:P3D
CALSCALE:GREGORIAN
BEGIN:VEVENT
DTSTART:20191221T233000Z
DTEND:20191222T013000Z
X-MICROSOFT-CDO-ALLDAYEVENT:FALSE
SUMMARY:Chris at La Cocina
DESCRIPTION:Join us at La Cocina Mexican Grill for some Christmas cheer!
X-ALT-DESC;FMTTYPE=text/html:<span style="color: rgb(29\, 33\, 41)\; font-family: Helvetica\, Arial\, sans-serif\; font-size: 14px\; white-space: pre-wrap\;">Join us at </span><a href="https://www.facebook.com/LaCocinaPY/" style="color: rgb(56\, 88\, 152)\; cursor: pointer\; text-decoration-line: none\; font-family: Helvetica\, Arial\, sans-serif\; font-size: 14px\; white-space: pre-wrap\;" target="_blank">La Cocina Mexican Grill</a><span style="color: rgb(29\, 33\, 41)\; font-family: Helvetica\, Arial\, sans-serif\; font-size: 14px\; white-space: pre-wrap\;"> for some Christmas cheer! </span>
LOCATION:La Cocina on Maiden Lane in Penn Yan
UID:e.3254.2973
SEQUENCE:3
DTSTAMP:20260421T101228Z
URL:https://business.yatesny.com/events/details/chris-at-la-cocina-2973
END:VEVENT

END:VCALENDAR
