BEGIN:VCALENDAR
VERSION:2.0
PRODID:-//ChamberMaster//Event Calendar 2.0//EN
METHOD:PUBLISH
X-PUBLISHED-TTL:P3D
REFRESH-INTERVAL:P3D
CALSCALE:GREGORIAN
BEGIN:VEVENT
DTSTART:20210616T210000Z
DTEND:20210616T230000Z
X-MICROSOFT-CDO-ALLDAYEVENT:FALSE
SUMMARY:Business After Hours- June 2021
DESCRIPTION:Back by popular demand!\n\n\n\nBusiness After Hours is the perfect opportunity to network in a fun\, relaxed atmosphere. Not only is this a great way to showcase one of our community partners/Chamber members\, but it is also a great time! \n\nMake sure you bring your business cards for our prizes and 50/50 raffles. \n\n\n\nJoin us with our hosts Camp Cory  \n\n140 Route 54 | Penn Yan \n\nEnter at the Main Entrance \n\n\n\nEvent is free but registration is required due to capacity limits. Register online or by calling 315-536-3111. \n\nCovid guidelines will be followed.
X-ALT-DESC;FMTTYPE=text/html:<p><span style="font-size:14px\;"><span style="font-family:tahoma\;"><em><strong>Back by popular demand!</strong></em><br>\n<br>\nBusiness After Hours is the perfect opportunity to network in a fun\, relaxed atmosphere. Not only is this a great way to showcase one of our community partners/Chamber members\, but it is also a great time!&nbsp\;<br>\nMake sure you bring your business cards for our prizes and 50/50 raffles.&nbsp\;<br>\n<br>\n<strong>Join us with our hosts Camp Cory&nbsp\;&nbsp\;</strong><br>\n140 Route 54 | Penn Yan&nbsp\;<br>\nEnter at the Main Entrance&nbsp\;<br>\n<br>\n<strong><em>Event is free but registration is required due to capacity limits.</em> </strong>Register online or by calling 315-536-3111.&nbsp\;<br>\nCovid guidelines will be followed.&nbsp\;</span></span><br>\n<br>\n&nbsp\;</p>\n
LOCATION:Camp Cory 140 Route 54 Penn Yan NY 14527 Use the Main Entrance
UID:e.3254.3659
SEQUENCE:3
DTSTAMP:20260419T171152Z
URL:https://business.yatesny.com/events/details/business-after-hours-june-2021-3659
END:VEVENT

END:VCALENDAR
