BEGIN:VCALENDAR
VERSION:2.0
PRODID:-//ChamberMaster//Event Calendar 2.0//EN
METHOD:PUBLISH
X-PUBLISHED-TTL:P3D
REFRESH-INTERVAL:P3D
CALSCALE:GREGORIAN
BEGIN:VEVENT
DTSTART:20191026T150000Z
DTEND:20191026T230000Z
X-MICROSOFT-CDO-ALLDAYEVENT:FALSE
SUMMARY:BOOS AND BREWS
DESCRIPTION:The first 50 people to come into the taproom with a costume\, pet with costume\, or child with costume will receive an Abandon Brewing Company Smoking Pumpkin 12oz glass and discount draft beers! We'll have fun for all kinds\, with treats for children and dogs\, and a bonfire at dusk! Bring the whole family down to Abandon Brewing to celebrate Halloween!
X-ALT-DESC;FMTTYPE=text/html:<span style="color: rgb(57\, 41\, 18)\; font-family: &quot\;Open Sans&quot\;\, sans-serif\; font-size: 16px\;">The first 50 people to come into the taproom with a costume\, pet with costume\, or child with costume will receive an Abandon Brewing Company Smoking Pumpkin 12oz glass and discount draft beers! We&rsquo\;ll have fun for all kinds\, with treats for children and dogs\, and a bonfire at dusk! Bring the whole family down to Abandon Brewing to celebrate Halloween!</span>
LOCATION:2994 Merritt Hill Road Penn Yan\, NY 14527
UID:e.3254.2739
SEQUENCE:3
DTSTAMP:20260423T035230Z
URL:https://business.yatesny.com/events/details/boos-and-brews-2739
END:VEVENT

END:VCALENDAR
