BEGIN:VCALENDAR
VERSION:2.0
PRODID:-//ChamberMaster//Event Calendar 2.0//EN
METHOD:PUBLISH
X-PUBLISHED-TTL:P3D
REFRESH-INTERVAL:P3D
CALSCALE:GREGORIAN
BEGIN:VEVENT
DTSTART:20210626T140000Z
DTEND:20210626T160000Z
X-MICROSOFT-CDO-ALLDAYEVENT:FALSE
SUMMARY:Books & Bikes Fest
DESCRIPTION:Penn Yan Public Library is excited to announce the return of Books & Bikes Fest! This annual celebration kicks off our summer of learning fun! The library's parking lot will be closed to vehicles so kids can bring their bikes and ride! There will be bubbles\, snacks\, free books\, free bike decorations\, and even free helmets! Kids who sign up to keep track of how much time they spend reading this summer will earn a free book of their choosing! This free outdoor event is for the whole family. Please dress for the weather\, although the festival will be canceled in the event of rain or thunder\, and follow all current public health guidelines.
X-ALT-DESC;FMTTYPE=text/html:Penn Yan Public Library is excited to announce the return of Books &amp\; Bikes Fest! This annual celebration kicks off our summer of learning fun! The library&rsquo\;s parking lot will be closed to vehicles so kids can bring their bikes and ride! There will be bubbles\, snacks\, free books\, free bike decorations\, and even free helmets! Kids who sign up to keep track of how much time they spend reading this summer will earn a free book of their choosing! This free outdoor event is for the whole family. Please dress for the weather\, although the festival will be canceled in the event of rain or thunder\, and follow all current public health guidelines.
LOCATION:Penn Yan Public Library\, 214 Main St.\, Penn Yan
UID:e.3254.3687
SEQUENCE:3
DTSTAMP:20260419T170731Z
URL:https://business.yatesny.com/events/details/books-bikes-fest-3687
END:VEVENT

END:VCALENDAR
