BEGIN:VCALENDAR
VERSION:2.0
PRODID:-//ChamberMaster//Event Calendar 2.0//EN
METHOD:PUBLISH
X-PUBLISHED-TTL:P3D
REFRESH-INTERVAL:P3D
CALSCALE:GREGORIAN
BEGIN:VEVENT
DTSTART:20210619T160000Z
DTEND:20210619T170000Z
X-MICROSOFT-CDO-ALLDAYEVENT:FALSE
SUMMARY:Book Club
DESCRIPTION:Book club discussion of A Gentleman in Moscow. "Perhaps the ultimate quarantine read . . . A Gentleman in Moscow is about the importance of community\; the distance of a kind act\; and resilience. It's a manual for getting through the days to come."  O\, The Oprah Magazine
X-ALT-DESC;FMTTYPE=text/html:Book club discussion of A Gentleman in Moscow. &ldquo\;Perhaps the ultimate quarantine read . . . A Gentleman in Moscow is about the importance of community\; the distance of a kind act\; and resilience. It&rsquo\;s a manual for getting through the days to come.&rdquo\; &mdash\;O\, The Oprah Magazine
LOCATION:Dundee Library Tripp Community Room 32 Water St Dundee
UID:e.3254.3680
SEQUENCE:3
DTSTAMP:20260419T170732Z
URL:https://business.yatesny.com/events/details/book-club-3680
END:VEVENT

END:VCALENDAR
